BEGIN:VCALENDAR
VERSION:2.0
PRODID:-//Friends of Roxhill Elementary (FORE) - ECPv6.15.20//NONSGML v1.0//EN
CALSCALE:GREGORIAN
METHOD:PUBLISH
X-WR-CALNAME:Friends of Roxhill Elementary (FORE)
X-ORIGINAL-URL:https://friendsofroxhill.org
X-WR-CALDESC:Events for Friends of Roxhill Elementary (FORE)
REFRESH-INTERVAL;VALUE=DURATION:PT1H
X-Robots-Tag:noindex
X-PUBLISHED-TTL:PT1H
BEGIN:VTIMEZONE
TZID:America/Los_Angeles
BEGIN:DAYLIGHT
TZOFFSETFROM:-0800
TZOFFSETTO:-0700
TZNAME:PDT
DTSTART:20250309T100000
END:DAYLIGHT
BEGIN:STANDARD
TZOFFSETFROM:-0700
TZOFFSETTO:-0800
TZNAME:PST
DTSTART:20251102T090000
END:STANDARD
BEGIN:DAYLIGHT
TZOFFSETFROM:-0800
TZOFFSETTO:-0700
TZNAME:PDT
DTSTART:20260308T100000
END:DAYLIGHT
BEGIN:STANDARD
TZOFFSETFROM:-0700
TZOFFSETTO:-0800
TZNAME:PST
DTSTART:20261101T090000
END:STANDARD
BEGIN:DAYLIGHT
TZOFFSETFROM:-0800
TZOFFSETTO:-0700
TZNAME:PDT
DTSTART:20270314T100000
END:DAYLIGHT
BEGIN:STANDARD
TZOFFSETFROM:-0700
TZOFFSETTO:-0800
TZNAME:PST
DTSTART:20271107T090000
END:STANDARD
END:VTIMEZONE
BEGIN:VEVENT
DTSTART;TZID=America/Los_Angeles:20260112T170000
DTEND;TZID=America/Los_Angeles:20260112T180000
DTSTAMP:20260420T185034
CREATED:20251211T190247Z
LAST-MODIFIED:20251211T190523Z
UID:1748-1768237200-1768240800@friendsofroxhill.org
SUMMARY:Roxhill Prospective Student Tour
DESCRIPTION:
URL:https://friendsofroxhill.org/event/roxhill-prospective-student-tour/
LOCATION:Roxhill Elementary at E.C. Hughes\, 7740 34th Ave. SW\, Seattle\, WA\, 98126\, United States
CATEGORIES:School Event
ATTACH;FMTTYPE=image/png:https://friendsofroxhill.org/wp-content/uploads/2025/01/Schoolphoto02.png
END:VEVENT
BEGIN:VEVENT
DTSTART;TZID=America/Los_Angeles:20260122T090000
DTEND;TZID=America/Los_Angeles:20260122T100000
DTSTAMP:20260420T185034
CREATED:20251211T190452Z
LAST-MODIFIED:20251211T190454Z
UID:1752-1769072400-1769076000@friendsofroxhill.org
SUMMARY:Roxhill Prospective Student Tour
DESCRIPTION:
URL:https://friendsofroxhill.org/event/roxhill-prospective-student-tour-2/
LOCATION:Roxhill Elementary at E.C. Hughes\, 7740 34th Ave. SW\, Seattle\, WA\, 98126\, United States
CATEGORIES:School Event
ATTACH;FMTTYPE=image/png:https://friendsofroxhill.org/wp-content/uploads/2025/01/Schoolphoto02.png
END:VEVENT
BEGIN:VEVENT
DTSTART;TZID=America/Los_Angeles:20260124T150000
DTEND;TZID=America/Los_Angeles:20260124T183000
DTSTAMP:20260420T185034
CREATED:20260106T042946Z
LAST-MODIFIED:20260106T042956Z
UID:1788-1769266800-1769279400@friendsofroxhill.org
SUMMARY:Roxhill BINGO Night
DESCRIPTION:Mr. Hakeem invites all Roxhill students and families to come have fun playing BINGO. Prizes to be won! \n\n\n\nPlease bring food and/or drinks to share.
URL:https://friendsofroxhill.org/event/roxhill-bingo-night/
LOCATION:Roxhill Elementary at E.C. Hughes\, 7740 34th Ave. SW\, Seattle\, WA\, 98126\, United States
CATEGORIES:School Event
ATTACH;FMTTYPE=image/jpeg:https://friendsofroxhill.org/wp-content/uploads/2026/01/rssqjpezn6o.jpg
END:VEVENT
BEGIN:VEVENT
DTSTART;TZID=America/Los_Angeles:20260128T075500
DTEND;TZID=America/Los_Angeles:20260128T083000
DTSTAMP:20260420T185034
CREATED:20260120T160840Z
LAST-MODIFIED:20260120T160846Z
UID:1829-1769586900-1769589000@friendsofroxhill.org
SUMMARY:3rd Grade Family Breakfast Potluck
DESCRIPTION:Third Grade families please join us for a warm and welcoming morning together! \n\n\n\nFamilies are invited to bring a favorite breakfast dish to share. Come enjoy good food\, conversation\, and community time with: \n\n\n\n\n🍎 Ms. Turner\, Ms. Anna\, and Mr. Mac\, 3rd Grade Teachers\n\n\n\n🏫 Principal Bruno\n\n\n\n🫶 Other support staff\n\n\n\n\nLet’s start the day with smiles\, stories\, and a shared meal! \n\n\n\nWe can’t wait to see you there.
URL:https://friendsofroxhill.org/event/3rd-grade-family-breakfast-potluck/
LOCATION:Roxhill Elementary at E.C. Hughes\, 7740 34th Ave. SW\, Seattle\, WA\, 98126\, United States
CATEGORIES:School Event
ATTACH;FMTTYPE=image/png:https://friendsofroxhill.org/wp-content/uploads/2026/01/thumb-9b9217954885ebb369e19c86cd1b02d3.png
END:VEVENT
END:VCALENDAR